Package: RTCA Version: 1.62.0 Command: /home/biocbuild/bbs-3.22-bioc/R/bin/R CMD INSTALL RTCA StartedAt: 2025-11-11 15:16:21 -0500 (Tue, 11 Nov 2025) EndedAt: 2025-11-11 15:16:25 -0500 (Tue, 11 Nov 2025) EllapsedTime: 4.4 seconds RetCode: 0 Status: OK