Package: RTCA Version: 1.62.0 Command: /home/biocbuild/bbs-3.22-bioc/R/bin/R CMD build --keep-empty-dirs --no-resave-data --md5 RTCA StartedAt: 2025-11-11 19:53:00 -0500 (Tue, 11 Nov 2025) EndedAt: 2025-11-11 19:53:11 -0500 (Tue, 11 Nov 2025) EllapsedTime: 11.0 seconds RetCode: 0 Status: OK PackageFile: RTCA_1.62.0.tar.gz PackageFileSize: 338 KiB