Package: RTCA Version: 1.60.0 Command: /Library/Frameworks/R.framework/Resources/bin/R CMD build --keep-empty-dirs --no-resave-data RTCA StartedAt: 2025-10-13 22:10:50 -0400 (Mon, 13 Oct 2025) EndedAt: 2025-10-13 22:11:20 -0400 (Mon, 13 Oct 2025) EllapsedTime: 29.8 seconds RetCode: 0 Status: OK PackageFile: RTCA_1.60.0.tar.gz PackageFileSize: 333.9 KiB