Package: RSeqAn Version: 1.30.0 Command: /home/biocbuild/bbs-3.22-bioc/R/bin/R CMD build --keep-empty-dirs --no-resave-data --md5 RSeqAn StartedAt: 2025-11-11 19:52:44 -0500 (Tue, 11 Nov 2025) EndedAt: 2025-11-11 19:53:00 -0500 (Tue, 11 Nov 2025) EllapsedTime: 16.0 seconds RetCode: 0 Status: OK PackageFile: RSeqAn_1.30.0.tar.gz PackageFileSize: 1.642 MiB