Package: RSeqAn Version: 1.30.0 Command: /Library/Frameworks/R.framework/Resources/bin/R CMD INSTALL RSeqAn StartedAt: 2025-11-03 15:09:20 -0500 (Mon, 03 Nov 2025) EndedAt: 2025-11-03 15:09:52 -0500 (Mon, 03 Nov 2025) EllapsedTime: 31.5 seconds RetCode: 0 Status: OK