Package: RSeqAn Version: 1.30.0 Command: /Library/Frameworks/R.framework/Resources/bin/R CMD build --keep-empty-dirs --no-resave-data RSeqAn StartedAt: 2025-11-03 18:33:19 -0500 (Mon, 03 Nov 2025) EndedAt: 2025-11-03 18:33:42 -0500 (Mon, 03 Nov 2025) EllapsedTime: 22.8 seconds RetCode: 0 Status: OK PackageFile: RSeqAn_1.30.0.tar.gz PackageFileSize: 1.621 MiB