Package: RSeqAn Version: 1.28.0 Command: /home/biocbuild/R/R/bin/R CMD INSTALL RSeqAn StartedAt: 2025-10-13 20:12:46 -0000 (Mon, 13 Oct 2025) EndedAt: 2025-10-13 20:12:56 -0000 (Mon, 13 Oct 2025) EllapsedTime: 10.2 seconds RetCode: 0 Status: OK