Package: RSVSim Version: 1.50.0 Command: /home/biocbuild/bbs-3.22-bioc/R/bin/R CMD build --keep-empty-dirs --no-resave-data --md5 RSVSim StartedAt: 2025-11-11 19:52:54 -0500 (Tue, 11 Nov 2025) EndedAt: 2025-11-11 19:53:45 -0500 (Tue, 11 Nov 2025) EllapsedTime: 51.0 seconds RetCode: 0 Status: OK PackageFile: RSVSim_1.50.0.tar.gz PackageFileSize: 505.8 KiB