Package: RSVSim Version: 1.50.0 Command: /Library/Frameworks/R.framework/Resources/bin/R CMD INSTALL RSVSim StartedAt: 2025-11-03 15:48:08 -0500 (Mon, 03 Nov 2025) EndedAt: 2025-11-03 15:48:52 -0500 (Mon, 03 Nov 2025) EllapsedTime: 43.6 seconds RetCode: 0 Status: OK