Package: RSVSim Version: 1.50.0 Command: /Library/Frameworks/R.framework/Resources/bin/R CMD build --keep-empty-dirs --no-resave-data RSVSim StartedAt: 2025-11-03 18:33:25 -0500 (Mon, 03 Nov 2025) EndedAt: 2025-11-03 18:34:30 -0500 (Mon, 03 Nov 2025) EllapsedTime: 65.0 seconds RetCode: 0 Status: OK PackageFile: RSVSim_1.50.0.tar.gz PackageFileSize: 503 KiB