Package: RSVSim Version: 1.50.0 Command: rm -rf RSVSim.buildbin-libdir && mkdir RSVSim.buildbin-libdir && /Users/biocbuild/BBS/utils/build-universal.sh RSVSim_1.50.0.tar.gz /Library/Frameworks/R.framework/Resources/bin/R RSVSim.buildbin-libdir StartedAt: 2025-11-04 02:00:55 -0500 (Tue, 04 Nov 2025) EndedAt: 2025-11-04 02:01:40 -0500 (Tue, 04 Nov 2025) EllapsedTime: 45.0 seconds RetCode: 0 Status: OK PackageFile: RSVSim_1.50.0.tgz PackageFileSize: 611.8 KiB