Package: RSVSim Version: 1.48.0 Command: /home/biocbuild/R/R/bin/R CMD build --keep-empty-dirs --no-resave-data RSVSim StartedAt: 2025-10-14 04:13:34 -0000 (Tue, 14 Oct 2025) EndedAt: 2025-10-14 04:14:46 -0000 (Tue, 14 Oct 2025) EllapsedTime: 72.0 seconds RetCode: 0 Status: OK PackageFile: RSVSim_1.48.0.tar.gz PackageFileSize: 500.4 KiB