Package: RSVSim Version: 1.48.0 Command: /Library/Frameworks/R.framework/Resources/bin/R CMD build --keep-empty-dirs --no-resave-data RSVSim StartedAt: 2025-04-21 17:30:05 -0400 (Mon, 21 Apr 2025) EndedAt: 2025-04-21 17:30:28 -0400 (Mon, 21 Apr 2025) EllapsedTime: 23.3 seconds RetCode: 0 Status: OK PackageFile: RSVSim_1.48.0.tar.gz PackageFileSize: 505 KiB