Package: RSVSim Version: 1.50.0 Command: /Library/Frameworks/R.framework/Resources/bin/R CMD INSTALL RSVSim StartedAt: 2025-11-20 18:52:24 -0500 (Thu, 20 Nov 2025) EndedAt: 2025-11-20 18:53:00 -0500 (Thu, 20 Nov 2025) EllapsedTime: 35.9 seconds RetCode: 0 Status: OK