Package: RSVSim Version: 1.50.0 Command: /Library/Frameworks/R.framework/Resources/bin/R CMD build --keep-empty-dirs --no-resave-data RSVSim StartedAt: 2025-11-21 08:56:03 -0500 (Fri, 21 Nov 2025) EndedAt: 2025-11-21 08:57:08 -0500 (Fri, 21 Nov 2025) EllapsedTime: 65.1 seconds RetCode: 0 Status: OK PackageFile: RSVSim_1.50.0.tar.gz PackageFileSize: 504.9 KiB