Package: RProtoBufLib Version: 2.22.0 Command: /home/biocbuild/R/R/bin/R CMD INSTALL RProtoBufLib StartedAt: 2025-11-10 21:03:32 -0000 (Mon, 10 Nov 2025) EndedAt: 2025-11-10 21:10:19 -0000 (Mon, 10 Nov 2025) EllapsedTime: 407.8 seconds RetCode: 0 Status: OK