Package: RProtoBufLib Version: 2.22.0 Command: /home/biocbuild/R/R/bin/R CMD build --keep-empty-dirs --no-resave-data RProtoBufLib StartedAt: 2025-11-11 04:41:13 -0000 (Tue, 11 Nov 2025) EndedAt: 2025-11-11 04:48:00 -0000 (Tue, 11 Nov 2025) EllapsedTime: 407.2 seconds RetCode: 0 Status: OK PackageFile: RProtoBufLib_2.22.0.tar.gz PackageFileSize: 2.898 MiB