Package: RProtoBufLib Version: 2.22.0 Command: /home/biocbuild/bbs-3.22-bioc/R/bin/R CMD INSTALL RProtoBufLib StartedAt: 2025-11-13 15:03:02 -0500 (Thu, 13 Nov 2025) EndedAt: 2025-11-13 15:07:58 -0500 (Thu, 13 Nov 2025) EllapsedTime: 296.3 seconds RetCode: 0 Status: OK