Package: RProtoBufLib Version: 2.20.0 Command: /Library/Frameworks/R.framework/Resources/bin/R CMD INSTALL RProtoBufLib StartedAt: 2025-10-02 15:05:31 -0400 (Thu, 02 Oct 2025) EndedAt: 2025-10-02 15:12:11 -0400 (Thu, 02 Oct 2025) EllapsedTime: 400.2 seconds RetCode: 0 Status: OK