Package: RProtoBufLib Version: 2.20.0 Command: /Library/Frameworks/R.framework/Resources/bin/R CMD build --keep-empty-dirs --no-resave-data RProtoBufLib StartedAt: 2025-10-02 22:09:12 -0400 (Thu, 02 Oct 2025) EndedAt: 2025-10-02 22:19:14 -0400 (Thu, 02 Oct 2025) EllapsedTime: 602.7 seconds RetCode: 0 Status: OK PackageFile: RProtoBufLib_2.20.0.tar.gz PackageFileSize: 2.786 MiB