Package: RProtoBufLib Version: 2.20.0 Command: rm -rf RProtoBufLib.buildbin-libdir && mkdir RProtoBufLib.buildbin-libdir && /Users/biocbuild/BBS/utils/build-universal.sh RProtoBufLib_2.20.0.tar.gz /Library/Frameworks/R.framework/Resources/bin/R RProtoBufLib.buildbin-libdir StartedAt: 2025-10-03 14:24:51 -0400 (Fri, 03 Oct 2025) EndedAt: 2025-10-03 14:36:51 -0400 (Fri, 03 Oct 2025) EllapsedTime: 719.9 seconds RetCode: 0 Status: OK PackageFile: RProtoBufLib_2.20.0.tgz PackageFileSize: 3.461 MiB