Package: ROntoTools Version: 2.38.0 Command: /home/biocbuild/R/R/bin/R CMD INSTALL ROntoTools StartedAt: 2025-11-20 22:15:28 -0000 (Thu, 20 Nov 2025) EndedAt: 2025-11-20 22:15:44 -0000 (Thu, 20 Nov 2025) EllapsedTime: 16.7 seconds RetCode: 0 Status: OK