Package: ROntoTools Version: 2.38.0 Command: /home/biocbuild/bbs-3.22-bioc/R/bin/R CMD INSTALL ROntoTools StartedAt: 2025-11-11 15:29:27 -0500 (Tue, 11 Nov 2025) EndedAt: 2025-11-11 15:29:40 -0500 (Tue, 11 Nov 2025) EllapsedTime: 12.5 seconds RetCode: 0 Status: OK