Package: ROntoTools Version: 2.38.0 Command: /home/biocbuild/bbs-3.22-bioc/R/bin/R CMD build --keep-empty-dirs --no-resave-data --md5 ROntoTools StartedAt: 2025-11-11 19:51:35 -0500 (Tue, 11 Nov 2025) EndedAt: 2025-11-11 19:52:15 -0500 (Tue, 11 Nov 2025) EllapsedTime: 39.0 seconds RetCode: 0 Status: OK PackageFile: ROntoTools_2.38.0.tar.gz PackageFileSize: 1.488 MiB