Package: ROntoTools Version: 2.36.0 Command: /home/biocbuild/bbs-3.21-bioc/R/bin/R CMD INSTALL ROntoTools StartedAt: 2025-10-15 15:25:47 -0400 (Wed, 15 Oct 2025) EndedAt: 2025-10-15 15:25:59 -0400 (Wed, 15 Oct 2025) EllapsedTime: 12.6 seconds RetCode: 0 Status: OK