Package: ROntoTools Version: 2.36.0 Command: /home/biocbuild/R/R/bin/R CMD INSTALL ROntoTools StartedAt: 2025-09-25 20:39:45 -0000 (Thu, 25 Sep 2025) EndedAt: 2025-09-25 20:40:02 -0000 (Thu, 25 Sep 2025) EllapsedTime: 17.8 seconds RetCode: 0 Status: OK