Package: ROntoTools Version: 2.36.0 Command: /Library/Frameworks/R.framework/Resources/bin/R CMD build --keep-empty-dirs --no-resave-data ROntoTools StartedAt: 2025-10-14 08:08:31 -0400 (Tue, 14 Oct 2025) EndedAt: 2025-10-14 08:09:23 -0400 (Tue, 14 Oct 2025) EllapsedTime: 52.5 seconds RetCode: 0 Status: OK PackageFile: ROntoTools_2.36.0.tar.gz PackageFileSize: 1.486 MiB