Package: ROntoTools Version: 2.38.0 Maintainer: Sorin Draghici MaintainerEmail: sorin at advaitabio.com git_url: https://git.bioconductor.org/packages/ROntoTools git_branch: RELEASE_3_22 git_last_commit: 5e9ce05 git_last_commit_date: 2025-10-29 10:14:20 -0400 (Wed, 29 Oct 2025)