Package: ROTS Version: 2.2.0 Command: /home/biocbuild/bbs-3.22-bioc/R/bin/R CMD INSTALL ROTS StartedAt: 2025-11-11 15:18:39 -0500 (Tue, 11 Nov 2025) EndedAt: 2025-11-11 15:18:57 -0500 (Tue, 11 Nov 2025) EllapsedTime: 18.1 seconds RetCode: 0 Status: OK