Package: ROTS Version: 2.2.0 Command: /Library/Frameworks/R.framework/Resources/bin/R CMD INSTALL ROTS StartedAt: 2025-11-10 15:08:02 -0500 (Mon, 10 Nov 2025) EndedAt: 2025-11-10 15:08:08 -0500 (Mon, 10 Nov 2025) EllapsedTime: 5.9 seconds RetCode: 0 Status: OK