Package: ROSeq Version: 1.22.0 Command: /home/biocbuild/R/R/bin/R CMD INSTALL ROSeq StartedAt: 2025-11-13 21:04:35 -0000 (Thu, 13 Nov 2025) EndedAt: 2025-11-13 21:05:17 -0000 (Thu, 13 Nov 2025) EllapsedTime: 41.7 seconds RetCode: 0 Status: OK