Package: ROSeq Version: 1.22.0 Command: /home/biocbuild/R/R/bin/R CMD build --keep-empty-dirs --no-resave-data ROSeq StartedAt: 2025-11-14 04:50:13 -0000 (Fri, 14 Nov 2025) EndedAt: 2025-11-14 04:55:48 -0000 (Fri, 14 Nov 2025) EllapsedTime: 335.1 seconds RetCode: 0 Status: OK PackageFile: ROSeq_1.22.0.tar.gz PackageFileSize: 4.192 MiB