Package: ROSeq Version: 1.22.0 Command: /home/biocbuild/bbs-3.22-bioc/R/bin/R CMD check --install=check:ROSeq.install-out.txt --library=/home/biocbuild/bbs-3.22-bioc/R/site-library --timings ROSeq_1.22.0.tar.gz StartedAt: 2025-11-12 03:32:03 -0500 (Wed, 12 Nov 2025) EndedAt: 2025-11-12 03:39:53 -0500 (Wed, 12 Nov 2025) EllapsedTime: 469.5 seconds RetCode: 0 Status: WARNINGS CheckDir: ROSeq.Rcheck Warnings: 1