Package: ROSeq Version: 1.20.0 Command: rm -rf ROSeq.buildbin-libdir && mkdir ROSeq.buildbin-libdir && /Users/biocbuild/BBS/utils/build-universal.sh ROSeq_1.20.0.tar.gz /Library/Frameworks/R.framework/Resources/bin/R ROSeq.buildbin-libdir StartedAt: 2025-10-14 14:37:16 -0400 (Tue, 14 Oct 2025) EndedAt: 2025-10-14 14:37:39 -0400 (Tue, 14 Oct 2025) EllapsedTime: 23.4 seconds RetCode: 0 Status: OK PackageFile: ROSeq_1.20.0.tgz PackageFileSize: 7.321 MiB