Package: ROSeq Version: 1.20.0 Command: /Library/Frameworks/R.framework/Resources/bin/R CMD INSTALL ROSeq StartedAt: 2025-10-06 15:11:01 -0400 (Mon, 06 Oct 2025) EndedAt: 2025-10-06 15:11:15 -0400 (Mon, 06 Oct 2025) EllapsedTime: 13.8 seconds RetCode: 0 Status: OK