Package: ROSeq Version: 1.20.0 Command: /Library/Frameworks/R.framework/Resources/bin/R CMD build --keep-empty-dirs --no-resave-data ROSeq StartedAt: 2025-10-07 08:28:30 -0400 (Tue, 07 Oct 2025) EndedAt: 2025-10-07 08:33:34 -0400 (Tue, 07 Oct 2025) EllapsedTime: 304.5 seconds RetCode: 0 Status: OK PackageFile: ROSeq_1.20.0.tar.gz PackageFileSize: 4.191 MiB