Package: ROCpAI Version: 1.22.0 Command: /home/biocbuild/R/R/bin/R CMD INSTALL ROCpAI StartedAt: 2025-11-13 21:30:03 -0000 (Thu, 13 Nov 2025) EndedAt: 2025-11-13 21:30:30 -0000 (Thu, 13 Nov 2025) EllapsedTime: 27.2 seconds RetCode: 0 Status: OK