Package: ROCpAI Version: 1.20.0 Command: /Library/Frameworks/R.framework/Resources/bin/R CMD INSTALL ROCpAI StartedAt: 2025-10-13 15:41:07 -0400 (Mon, 13 Oct 2025) EndedAt: 2025-10-13 15:41:51 -0400 (Mon, 13 Oct 2025) EllapsedTime: 44.1 seconds RetCode: 0 Status: OK