Package: ROCpAI Version: 1.20.0 Command: /Library/Frameworks/R.framework/Resources/bin/R CMD build --keep-empty-dirs --no-resave-data ROCpAI StartedAt: 2025-10-13 22:06:56 -0400 (Mon, 13 Oct 2025) EndedAt: 2025-10-13 22:08:10 -0400 (Mon, 13 Oct 2025) EllapsedTime: 74.0 seconds RetCode: 0 Status: OK PackageFile: ROCpAI_1.20.0.tar.gz PackageFileSize: 426.9 KiB