Package: ROCpAI Version: 1.20.0 Command: rm -rf ROCpAI.buildbin-libdir && mkdir ROCpAI.buildbin-libdir && /Users/biocbuild/BBS/utils/build-universal.sh ROCpAI_1.20.0.tar.gz /Library/Frameworks/R.framework/Resources/bin/R ROCpAI.buildbin-libdir StartedAt: 2025-10-14 14:36:53 -0400 (Tue, 14 Oct 2025) EndedAt: 2025-10-14 14:37:50 -0400 (Tue, 14 Oct 2025) EllapsedTime: 57.3 seconds RetCode: 0 Status: OK PackageFile: ROCpAI_1.20.0.tgz PackageFileSize: 464.9 KiB