Package: ROCpAI Version: 1.20.0 Command: /home/biocbuild/R/R/bin/R CMD INSTALL ROCpAI StartedAt: 2025-09-25 20:36:24 -0000 (Thu, 25 Sep 2025) EndedAt: 2025-09-25 20:36:54 -0000 (Thu, 25 Sep 2025) EllapsedTime: 29.8 seconds RetCode: 0 Status: OK