Package: ROC Version: 1.86.0 Command: /home/biocbuild/bbs-3.22-bioc/R/bin/R CMD check --install=check:ROC.install-out.txt --library=/home/biocbuild/bbs-3.22-bioc/R/site-library --timings ROC_1.86.0.tar.gz StartedAt: 2025-11-18 07:55:44 -0500 (Tue, 18 Nov 2025) EndedAt: 2025-11-18 07:56:06 -0500 (Tue, 18 Nov 2025) EllapsedTime: 22.0 seconds RetCode: 0 Status: OK CheckDir: ROC.Rcheck Warnings: 0