Package: ROC Version: 1.86.0 Command: /home/biocbuild/bbs-3.22-bioc/R/bin/R CMD build --keep-empty-dirs --no-resave-data --md5 ROC StartedAt: 2025-11-11 19:51:05 -0500 (Tue, 11 Nov 2025) EndedAt: 2025-11-11 19:51:10 -0500 (Tue, 11 Nov 2025) EllapsedTime: 5.0 seconds RetCode: 0 Status: OK PackageFile: ROC_1.86.0.tar.gz PackageFileSize: 251.5 KiB