Package: ROC Version: 1.86.0 Command: /Library/Frameworks/R.framework/Resources/bin/R CMD INSTALL ROC StartedAt: 2025-11-03 15:12:30 -0500 (Mon, 03 Nov 2025) EndedAt: 2025-11-03 15:13:27 -0500 (Mon, 03 Nov 2025) EllapsedTime: 57.0 seconds RetCode: 0 Status: OK