Package: ROC Version: 1.86.0 Command: /Library/Frameworks/R.framework/Resources/bin/R CMD build --keep-empty-dirs --no-resave-data ROC StartedAt: 2025-11-03 18:31:28 -0500 (Mon, 03 Nov 2025) EndedAt: 2025-11-03 18:31:36 -0500 (Mon, 03 Nov 2025) EllapsedTime: 8.0 seconds RetCode: 0 Status: OK PackageFile: ROC_1.86.0.tar.gz PackageFileSize: 251.1 KiB