Package: ROC Version: 1.86.0 Command: rm -rf ROC.buildbin-libdir && mkdir ROC.buildbin-libdir && /Users/biocbuild/BBS/utils/build-universal.sh ROC_1.86.0.tar.gz /Library/Frameworks/R.framework/Resources/bin/R ROC.buildbin-libdir StartedAt: 2025-11-04 02:00:20 -0500 (Tue, 04 Nov 2025) EndedAt: 2025-11-04 02:00:28 -0500 (Tue, 04 Nov 2025) EllapsedTime: 8.0 seconds RetCode: 0 Status: OK PackageFile: ROC_1.86.0.tgz PackageFileSize: 271.3 KiB