Package: ROC Version: 1.84.0 Command: /home/biocbuild/R/R/bin/R CMD INSTALL ROC StartedAt: 2025-10-13 20:16:23 -0000 (Mon, 13 Oct 2025) EndedAt: 2025-10-13 20:16:53 -0000 (Mon, 13 Oct 2025) EllapsedTime: 30.0 seconds RetCode: 0 Status: OK