Package: RNAseqCovarImpute Version: 1.8.0 Command: /home/biocbuild/bbs-3.22-bioc/R/bin/R CMD INSTALL RNAseqCovarImpute StartedAt: 2025-11-11 15:16:19 -0500 (Tue, 11 Nov 2025) EndedAt: 2025-11-11 15:16:28 -0500 (Tue, 11 Nov 2025) EllapsedTime: 9.4 seconds RetCode: 0 Status: OK