Package: RNAseqCovarImpute Version: 1.8.0 Command: /home/biocbuild/bbs-3.22-bioc/R/bin/R CMD build --keep-empty-dirs --no-resave-data --md5 RNAseqCovarImpute StartedAt: 2025-11-11 19:49:40 -0500 (Tue, 11 Nov 2025) EndedAt: 2025-11-11 19:50:27 -0500 (Tue, 11 Nov 2025) EllapsedTime: 47.0 seconds RetCode: 0 Status: OK PackageFile: RNAseqCovarImpute_1.8.0.tar.gz PackageFileSize: 769.4 KiB