Package: RNAseqCovarImpute Version: 1.8.0 Command: /Library/Frameworks/R.framework/Resources/bin/R CMD INSTALL RNAseqCovarImpute StartedAt: 2025-11-10 15:06:42 -0500 (Mon, 10 Nov 2025) EndedAt: 2025-11-10 15:06:46 -0500 (Mon, 10 Nov 2025) EllapsedTime: 3.8 seconds RetCode: 0 Status: OK